BEGIN:VCALENDAR
VERSION:2.0
PRODID:-//YourSite//ICS Event Generator//EN
CALSCALE:GREGORIAN
METHOD:PUBLISH
BEGIN:VEVENT
UID:event-1775977284183-9lw25lhg@yourdomain.com
DTSTAMP:20260412T070124Z
DTSTART;VALUE=DATE:20260521
DTEND;VALUE=DATE:20260525
SUMMARY:ET CIO Annual Conclave 2026
DESCRIPTION:We’re proud to be part of ET CIO Annual Conclave 2026 — a leading cybersecurity conference and exhibition held in  Goa\, India.  \nThis event brings together global cybersecurity professionals\, innovators\, solution providers\, and decision-makers — compressing months of valuable networking and collaboration into just three power-packed days.
LOCATION:Grand Hyatt\, Goa\, India
END:VEVENT
END:VCALENDAR
